BEGIN:VCALENDAR
TZID:Europe/Berlin
BEGIN:VEVENT
CLASS:PUBLIC
CREATED:20260422T143853
DESCRIPTION:In Ökumenischer Runde starten wir an der Basilika und begeben uns auf den Kreuzweg Jesu. In verschiedenen Stationen werden Stellen des Kreuzweges neu Interpretiert und veranschaulicht. Schließlich Enden wir mit Jesu Kreuzigung in der St. Mang Kirche und stärken uns anschließend noch bei einem kleinen Snack im Jugendwerk.\nWir freuen uns auf euer kommen.\n\nEure Ökumenische Jugendrunde
DTEND:20250411T200000Z
DTSTAMP:20260422T143853
DTSTART:20250411T180000
LAST-MODIFIED:20091109T101015
LOCATION:Basilika bis St. Mang Kirche, Hildegardplatz, , Bayern, 87435
SUMMARY;LANGUAGE=en-us:Ökumenischer Jugendkreuzweg
BEGIN:VALARM
TRIGGER:-PT1440M
ACTION:DISPLAY
DESCRIPTION:Reminder
END:VALARM
END:VEVENT
END:VCALENDAR
